BEGIN:VCALENDAR
VERSION:2.0
PRODID:-//Sabre//Sabre VObject 4.5.8//EN
CALSCALE:GREGORIAN
BEGIN:VEVENT
UID:sabre-vobject-0e8e427a-148f-491e-b53a-d6da7a4792c8
DTSTAMP:20260420T105308Z
SUMMARY:Rosenkranz
DESCRIPTION:https://pg-krumbach.bistum-augsburg-portal.de/rosenkranz_id1736
 451
DTSTART;TZID=Europe/Berlin:20260429T173000
DURATION:PT30M
LOCATION:Hlgst. Dreifaltigkeit
END:VEVENT
END:VCALENDAR
