BEGIN:VCALENDAR
VERSION:2.0
PRODID:-//Sabre//Sabre VObject 4.5.8//EN
CALSCALE:GREGORIAN
BEGIN:VEVENT
UID:sabre-vobject-dc5fc71c-891a-41fe-93fd-14dffb5ebaaf
DTSTAMP:20260420T105005Z
SUMMARY:Rosenkranz
DESCRIPTION:https://pg-krumbach.bistum-augsburg-portal.de/rosenkranz_id1736
 395
DTSTART;TZID=Europe/Berlin:20260422T073000
DURATION:PT30M
LOCATION:St. Michael
END:VEVENT
END:VCALENDAR
