BEGIN:VCALENDAR
VERSION:2.0
PRODID:-//Sabre//Sabre VObject 4.5.8//EN
CALSCALE:GREGORIAN
BEGIN:VEVENT
UID:sabre-vobject-9ee4dcc8-769b-48a0-bb5e-506cd34b884e
DTSTAMP:20260420T103635Z
SUMMARY:Rosenkranz
DESCRIPTION:https://pg-krumbach.bistum-augsburg-portal.de/rosenkranz_id1736
 387
DTSTART;TZID=Europe/Berlin:20260424T190000
DURATION:PT30M
LOCATION:St. Ulrich und Vitus
END:VEVENT
END:VCALENDAR
